BEGIN:VCALENDAR
VERSION:2.0
PRODID:-//ChamberMaster//Event Calendar 2.0//EN
METHOD:PUBLISH
X-PUBLISHED-TTL:P3D
REFRESH-INTERVAL:P3D
CALSCALE:GREGORIAN
BEGIN:VEVENT
DTSTART:20230427T230000Z
DTEND:20230428T020000Z
X-MICROSOFT-CDO-ALLDAYEVENT:FALSE
SUMMARY:Wild Women: Reception & Artist Talk
DESCRIPTION:WILD WOMEN: Reception & Artist Talk\n\nIn celebration of Women's History Month\, The Gallery at Finer Frames is highlighting twelve trailblazing and talented women in the Treasure Valley. These women have inspired and created incredible works of art spanning wildly different styles and mediums. Discover their stories and let them spark your imaginations! Art Talk & Reception on the Last Thursdays in March & April. The public is welcome to this free interactive presentation featuring artists from the show. Reception 5-8pm. Lecture at 7pm. Wine provided by Proletariat Wine Company.
X-ALT-DESC;FMTTYPE=text/html:<p><span style="font-size:10.0pt\;font-family:&quot\;Times New Roman&quot\;\,serif">WILD WOMEN: Reception &amp\; Artist Talk<o:p></o:p></span></p>\n\n<p><span style="font-size:10.0pt\;font-family:&quot\;Times New Roman&quot\;\,serif">In celebration of Women&#39\;s History Month\, The Gallery at Finer Frames is highlighting twelve trailblazing and talented women in the Treasure Valley. These women have inspired and created incredible works of art spanning wildly different styles and mediums. Discover their stories and let them spark your imaginations! Art Talk &amp\; Reception on the Last Thursdays in March &amp\; April. The public is welcome to this free interactive presentation featuring artists from the show. Reception 5-8pm. Lecture at 7pm. Wine provided by Proletariat Wine Company.<o:p></o:p></span></p>\n
LOCATION:132 E State St Eagle\, ID
UID:e.2995.4862
SEQUENCE:3
DTSTAMP:20260419T145444Z
URL:https://business.eaglechamber.com/events/details/wild-women-reception-artist-talk-4862
END:VEVENT

END:VCALENDAR
