BEGIN:VCALENDAR
VERSION:2.0
PRODID:-//ChamberMaster//Event Calendar 2.0//EN
METHOD:PUBLISH
X-PUBLISHED-TTL:P3D
REFRESH-INTERVAL:P3D
CALSCALE:GREGORIAN
BEGIN:VEVENT
DTSTART:20230420T223000Z
DTEND:20230421T003000Z
X-MICROSOFT-CDO-ALLDAYEVENT:FALSE
SUMMARY:Vibrant PT & Wellness Ribbon Cutting/Open House
DESCRIPTION:Vibrant Physical Therapy & Wellness invites you to join us in celebrating our new location! We will have yummy finger foods\, raffles\, and more\, so swing by after work to celebrate all we have to offer you at our new location.
X-ALT-DESC;FMTTYPE=text/html:Vibrant Physical Therapy &amp\; Wellness invites you to join us in celebrating our new location! We will have yummy finger foods\, raffles\, and more\, so swing by after work to celebrate all we have to offer you at our new location.
LOCATION:280 S Academy #120 Eagle\, ID 83616
UID:e.2995.4866
SEQUENCE:3
DTSTAMP:20260419T161017Z
URL:https://business.eaglechamber.com/events/details/vibrant-pt-wellness-ribbon-cutting-open-house-4866
END:VEVENT

END:VCALENDAR
