BEGIN:VCALENDAR
VERSION:2.0
PRODID:-//ChamberMaster//Event Calendar 2.0//EN
METHOD:PUBLISH
X-PUBLISHED-TTL:P3D
REFRESH-INTERVAL:P3D
CALSCALE:GREGORIAN
BEGIN:VEVENT
DTSTART:20260506T170000Z
DTEND:20260506T180000Z
X-MICROSOFT-CDO-ALLDAYEVENT:FALSE
SUMMARY:U.S Bank (Eagle Ribbon Cutting)
DESCRIPTION:
X-ALT-DESC;FMTTYPE=text/html:
LOCATION:
UID:e.2995.5905
SEQUENCE:3
DTSTAMP:20260421T215414Z
URL:https://business.eaglechamber.com/events/details/u-s-bank-eagle-ribbon-cutting-5905
END:VEVENT

END:VCALENDAR
