BEGIN:VCALENDAR
VERSION:2.0
PRODID:-//ChamberMaster//Event Calendar 2.0//EN
METHOD:PUBLISH
X-PUBLISHED-TTL:P3D
REFRESH-INTERVAL:P3D
CALSCALE:GREGORIAN
BEGIN:VEVENT
DTSTART:20260509T200000Z
DTEND:20260509T210000Z
X-MICROSOFT-CDO-ALLDAYEVENT:FALSE
SUMMARY:Treausre Valley Mobile Food Pantry
DESCRIPTION:Free food for those in need
X-ALT-DESC;FMTTYPE=text/html:Free food for those in need
LOCATION:Eagle Seventh-day Advenitst Church
UID:e.2995.5901
SEQUENCE:3
DTSTAMP:20260421T191445Z
URL:https://business.eaglechamber.com/events/details/treausre-valley-mobile-food-pantry-5901
END:VEVENT

END:VCALENDAR
