BEGIN:VCALENDAR
VERSION:2.0
PRODID:-//ChamberMaster//Event Calendar 2.0//EN
METHOD:PUBLISH
X-PUBLISHED-TTL:P3D
REFRESH-INTERVAL:P3D
CALSCALE:GREGORIAN
BEGIN:VEVENT
DTSTART:20230211T210000Z
DTEND:20230211T220000Z
X-MICROSOFT-CDO-ALLDAYEVENT:FALSE
SUMMARY:Treasurer Valley Mobile Food Bank
DESCRIPTION:Treasure Valley Mobile Food Pantry is in Eagle on the second Saturday of each month from 2-3pm. If you or someone you know is in need of free food\, please stop by in our church parking lot!
X-ALT-DESC;FMTTYPE=text/html:Treasure Valley Mobile Food Pantry is in Eagle on the second Saturday of each month from 2-3pm. If you or someone you know is in need of free food\, please stop by in our church parking lot!
LOCATION:Eagle Seventh-day Adventist Church
UID:e.2995.4825
SEQUENCE:3
DTSTAMP:20260419T162621Z
URL:https://business.eaglechamber.com/events/details/treasurer-valley-mobile-food-bank-4825
END:VEVENT

END:VCALENDAR
