BEGIN:VCALENDAR
VERSION:2.0
PRODID:-//ChamberMaster//Event Calendar 2.0//EN
METHOD:PUBLISH
X-PUBLISHED-TTL:P3D
REFRESH-INTERVAL:P3D
CALSCALE:GREGORIAN
BEGIN:VEVENT
DTSTART:20221105T200000Z
DTEND:20221105T210000Z
X-MICROSOFT-CDO-ALLDAYEVENT:FALSE
SUMMARY:Treasure Valley Mobile Food Pantry
DESCRIPTION:Idaho Food Bank food to those in need. Every 1st Saturday of the month
X-ALT-DESC;FMTTYPE=text/html:Idaho Food Bank food to those in need. Every 1st Saturday of the month
LOCATION:Eagle Seventh-day Adventist Church 538 W. State St. Eagle\, ID 83616
UID:e.2995.4542
SEQUENCE:3
DTSTAMP:20260419T203527Z
URL:https://business.eaglechamber.com/events/details/treasure-valley-mobile-food-pantry-4542
END:VEVENT

END:VCALENDAR
