BEGIN:VCALENDAR
VERSION:2.0
PRODID:-//ChamberMaster//Event Calendar 2.0//EN
METHOD:PUBLISH
X-PUBLISHED-TTL:P3D
REFRESH-INTERVAL:P3D
CALSCALE:GREGORIAN
BEGIN:VEVENT
DTSTART:20230408T200000Z
DTEND:20230408T210000Z
X-MICROSOFT-CDO-ALLDAYEVENT:FALSE
SUMMARY:Treasure Valley Mobile Food Pantry
DESCRIPTION:Idaho Food Bank food to those in need. Every 2nd Saturday of the month
X-ALT-DESC;FMTTYPE=text/html:Idaho Food Bank food to those in need. Every 2nd Saturday of the month
LOCATION:Eagle Seventh-day Adventist Church
UID:e.2995.4863
SEQUENCE:3
DTSTAMP:20260419T162615Z
URL:https://business.eaglechamber.com/events/details/treasure-valley-mobile-food-pantry-04-08-2023-4863
END:VEVENT

END:VCALENDAR
