BEGIN:VCALENDAR
VERSION:2.0
PRODID:-//ChamberMaster//Event Calendar 2.0//EN
METHOD:PUBLISH
X-PUBLISHED-TTL:P3D
REFRESH-INTERVAL:P3D
CALSCALE:GREGORIAN
BEGIN:VEVENT
DTSTART:20230914T220000Z
DTEND:20230915T020000Z
X-MICROSOFT-CDO-ALLDAYEVENT:FALSE
SUMMARY:Tesoro Valle Gifts 1st Anniversary Celebration
DESCRIPTION:Looking for unique gifts & home accessories with an Italian Ambiance? Tesoro Valle Gifts is the place for you! Come take advantage of the One-Year Anniversary Store-wide discounts! \n\n	Enjoy some wine\, iced tea\n	live music from Mike Brown\n	endless charcuterie table (designed by Robin Cabrini & staff)\n	door prizes\n	sweet treats\n	15% off storewide (some exclusions apply & cannot be used with any other offers)\n	PopUps from several local artists! \n	Party while you shop!
X-ALT-DESC;FMTTYPE=text/html:Looking for unique gifts &amp\; home accessories with an Italian Ambiance? Tesoro Valle Gifts is the place for you! Come take advantage of the One-Year Anniversary Store-wide discounts!&nbsp\;\n<ul>\n	<li>Enjoy some wine\, iced tea</li>\n	<li>live music from Mike Brown</li>\n	<li>endless charcuterie table (designed by Robin Cabrini &amp\; staff)</li>\n	<li>door prizes</li>\n	<li>sweet treats</li>\n	<li>15% off storewide (some exclusions apply &amp\; cannot be used with any other offers)</li>\n	<li>PopUps from several local artists!&nbsp\;</li>\n	<li>Party while you shop!&nbsp\;</li>\n</ul>\n<br />\n&nbsp\;
LOCATION:2483 E. Fairview Ave. Ste. 101\, Meridian\, ID 83642 (We're on the south side of Fairview Ave. two blocks west of Eagle Rd. & across from Louie's Italian Restaurant)
UID:e.2995.4919
SEQUENCE:3
DTSTAMP:20260419T173655Z
URL:https://business.eaglechamber.com/events/details/tesoro-valle-gifts-1st-anniversary-celebration-4919
END:VEVENT

END:VCALENDAR
