BEGIN:VCALENDAR
VERSION:2.0
PRODID:-//ChamberMaster//Event Calendar 2.0//EN
METHOD:PUBLISH
X-PUBLISHED-TTL:P3D
REFRESH-INTERVAL:P3D
CALSCALE:GREGORIAN
BEGIN:VEVENT
DTSTART:20230907T233000Z
DTEND:20230908T030000Z
X-MICROSOFT-CDO-ALLDAYEVENT:FALSE
SUMMARY:Sunshine Gala - Rays for Ray
DESCRIPTION:This event supports Rays for Rare's mission:\n\n"Bringing uplifting support to medically fragile children and their families"\n\nThere are over 5\,000 medically fragile children in our area. This number is growing as our community grows and advances in medicine continue.\n\nWhether it is one of 7\,000 rare diseases\, including all forms of pediatric cancer\, or the survivor of a tragic accident all of the families we support have a medically fragile child. What does that mean? A child who is medically fragile requires daily care by specially trained caregivers (above and beyond typical parenting). Children who are medically fragile require the use of therapies and usually require specialized high tech medical equipment (G-Tubes\, ventilators\, oxygen\, suction machines) to support and enhance their lives.\n\nUPLIFTING SUPPORT OFFERED\n\n\n	Family Events\n	Lawn Care\n	Resources for Families\n	Housekeeping\n	Grocery Delivery\n	Snow Removal\n	Support Groups\n	Other Support or Uplifting Care
X-ALT-DESC;FMTTYPE=text/html:<p style="box-sizing: inherit\; color: rgba(0\, 0\, 0\, 0.87)\; font-family: Inter\, &quot\;Helvetica Neue&quot\;\, sans-serif\; background-color: rgb(245\, 246\, 247)\;">This event supports Rays for Rare&#39\;s mission:</p>\n\n<h1 id="bringing-uplifting-support-to-medically-fragile-children-and-their-families" style="box-sizing: inherit\; margin: 0.67em 0px\; color: rgba(0\, 0\, 0\, 0.87)\; font-family: Inter\, &quot\;Helvetica Neue&quot\;\, sans-serif\; background-color: rgb(245\, 246\, 247)\;">&quot\;Bringing uplifting support to medically fragile children and their families&quot\;</h1>\n\n<p style="box-sizing: inherit\; color: rgba(0\, 0\, 0\, 0.87)\; font-family: Inter\, &quot\;Helvetica Neue&quot\;\, sans-serif\; background-color: rgb(245\, 246\, 247)\;">There are over 5\,000 medically fragile children in our area. This number is growing as our community grows and advances in medicine continue.</p>\n\n<p style="box-sizing: inherit\; color: rgba(0\, 0\, 0\, 0.87)\; font-family: Inter\, &quot\;Helvetica Neue&quot\;\, sans-serif\; background-color: rgb(245\, 246\, 247)\;">Whether it is one of 7\,000 rare diseases\, including all forms of pediatric cancer\, or the survivor of a tragic accident all of the families we support have a medically fragile child. What does that mean? A child who is medically fragile requires daily care by specially trained caregivers (above and beyond typical parenting). Children who are medically fragile require the use of therapies and usually require specialized high tech medical equipment (G-Tubes\, ventilators\, oxygen\, suction machines) to support and enhance their lives.</p>\n\n<p style="box-sizing: inherit\; color: rgba(0\, 0\, 0\, 0.87)\; font-family: Inter\, &quot\;Helvetica Neue&quot\;\, sans-serif\; background-color: rgb(245\, 246\, 247)\;">UPLIFTING SUPPORT OFFERED</p>\n\n<ul style="box-sizing: inherit\; color: rgba(0\, 0\, 0\, 0.87)\; font-family: Inter\, &quot\;Helvetica Neue&quot\;\, sans-serif\; background-color: rgb(245\, 246\, 247)\;">\n	<li style="box-sizing: inherit\;">Family Events</li>\n	<li style="box-sizing: inherit\;">Lawn Care</li>\n	<li style="box-sizing: inherit\;">Resources for Families</li>\n	<li style="box-sizing: inherit\;">Housekeeping</li>\n	<li style="box-sizing: inherit\;">Grocery Delivery</li>\n	<li style="box-sizing: inherit\;">Snow Removal</li>\n	<li style="box-sizing: inherit\;">Support Groups</li>\n	<li style="box-sizing: inherit\;">Other Support or Uplifting Care</li>\n</ul>\n
LOCATION:Chateau des Fleurs 176 S Rosebud Ln - Eagle
UID:e.2995.4921
SEQUENCE:3
DTSTAMP:20260419T173339Z
URL:https://business.eaglechamber.com/events/details/sunshine-gala-rays-for-ray-4921
END:VEVENT

END:VCALENDAR
