BEGIN:VCALENDAR
VERSION:2.0
PRODID:-//ChamberMaster//Event Calendar 2.0//EN
METHOD:PUBLISH
X-PUBLISHED-TTL:P3D
REFRESH-INTERVAL:P3D
CALSCALE:GREGORIAN
BEGIN:VEVENT
DTSTART:20230614T220000Z
DTEND:20230615T020000Z
X-MICROSOFT-CDO-ALLDAYEVENT:FALSE
SUMMARY:StretchLab Eagle Wine Down Wednesday
DESCRIPTION:Come Un-Wine With Us!\n\nFREE assisted stretches\, refreshments\, appetizers\, raffles and prizes! Come out to your local studio and join us for our Wine Down Wednesday event!
X-ALT-DESC;FMTTYPE=text/html:<strong><span style="position:relative\;top:-8.5pt\;"><span style="font-family:arial\,sans-serif\;"><span style="font-size:18pt\;">Come Un-<u>Wine</u> With Us!</span></span></span></strong><br />\n<span style="position:relative\;top:-8.5pt\;"><span style="font-family:arial\,sans-serif\;"><span style="font-size:12pt\;">FREE assisted stretches\, refreshments\, appetizers\, raffles and prizes! Come out to your local studio and join us for our Wine Down Wednesday event!&nbsp\;</span></span></span>
LOCATION:Eagle Studio 2826 S Eagle Rd
UID:e.2995.4893
SEQUENCE:3
DTSTAMP:20260419T173251Z
URL:https://business.eaglechamber.com/events/details/stretchlab-eagle-wine-down-wednesday-4893
END:VEVENT

END:VCALENDAR
