BEGIN:VCALENDAR
VERSION:2.0
PRODID:-//ChamberMaster//Event Calendar 2.0//EN
METHOD:PUBLISH
X-PUBLISHED-TTL:P3D
REFRESH-INTERVAL:P3D
CALSCALE:GREGORIAN
BEGIN:VEVENT
DTSTART:20230222T010000Z
DTEND:20230222T033000Z
X-MICROSOFT-CDO-ALLDAYEVENT:FALSE
SUMMARY:Silent Art Auction
DESCRIPTION:Join the Idaho Art Gallery for this unique event and enjoy appetizers\, dessert\, champagne and a chance to win an original landscape painting by Boris Garibyan.\n\n\n\nThe night's festivities include live music\, silent art auction\, mystery wine bottle game and a bling ring raffle.
X-ALT-DESC;FMTTYPE=text/html:<span style="font-size:14.0pt\;">Join the <a href="https://landscapepaintings.org/silent-art-auction-event/">Idaho Art Gallery</a> for this unique event and enjoy appetizers\, dessert\, champagne and a chance to win an original landscape painting by Boris Garibyan.</span><br />\n<br />\n<span style="font-size:14.0pt\;">The night&rsquo\;s festivities include live music\, silent art auction\, mystery wine bottle game and a bling ring raffle.</span>
LOCATION:The Riverside Hotel 2900 West Chinden Blvd Garden City\, ID 83714
UID:e.2995.4823
SEQUENCE:3
DTSTAMP:20260419T162153Z
URL:https://business.eaglechamber.com/events/details/silent-art-auction-4823
END:VEVENT

END:VCALENDAR
