BEGIN:VCALENDAR
VERSION:2.0
PRODID:-//ChamberMaster//Event Calendar 2.0//EN
METHOD:PUBLISH
X-PUBLISHED-TTL:P3D
REFRESH-INTERVAL:P3D
CALSCALE:GREGORIAN
BEGIN:VEVENT
DTSTART:20230611T170000Z
DTEND:20230612T000000Z
X-MICROSOFT-CDO-ALLDAYEVENT:FALSE
SUMMARY:Savor Idaho
DESCRIPTION:Savor Idaho\, taking place on Sunday\, June 11th\, 2023\, is Idaho's premier wine event taking place during Idaho Wine and Cider Month at the beautiful Idaho Botanical Gardens. Savor Idaho features all Idaho wine and cider and will give you a taste through our great wine community.\n\nNot only will you be able to enjoy wine and cider - You will be able to stroll around to various local food trucks\, local vendors\, enjoy LIVE music and have the opportunity to participate in a painting class by Wine and Design. \n\nTickets will go on sale March 1st\, 2023 and will be available for purchase on our website\n\nConsumers can choose between two (2) waves of the event.  \n\n\n	Tickets: $75/person\n	11 AM - 2 PM and 3:00 PM - 6:00 PM \n	Pre-order your sharable charcuterie board while you purchase your tickets\n	\n		Charcuterie board is only available for pre-order\n		Pick up your pre-ordered charcuterie board at Savor Idaho\n		Items are agriculturally connected to Idaho\n	\n	\n	Tickets HERE\n	Attendees will be greeted by volunteers with a Welcome Bag\, Savor Idaho glass and bread provided by the Idaho Wheat Commission!\n	FAQ About Savor Idaho HERE
X-ALT-DESC;FMTTYPE=text/html:<p style="box-sizing: inherit\; margin: 0px 0px 1rem\; padding: 0px\; font-size: 22px\; line-height: 1.6\; text-rendering: optimizelegibility\; caret-color: rgb(0\, 0\, 0)\; font-family: freight-sans-pro\, Helvetica\, Roboto\, Arial\, sans-serif\; font-weight: bold\; text-size-adjust: auto\;"><span style="box-sizing: inherit\; font-weight: 400\;">Savor Idaho\, taking place on Sunday\, June 11th\, 2023\, is Idaho&#39\;s premier wine event taking place during Idaho Wine and Cider Month at the beautiful Idaho Botanical Gardens. Savor Idaho features all Idaho wine and cider and will give you a taste through our great wine community.</span></p>\n\n<p style="box-sizing: inherit\; margin: 0px 0px 1rem\; padding: 0px\; font-size: 22px\; line-height: 1.6\; text-rendering: optimizelegibility\; caret-color: rgb(0\, 0\, 0)\; font-family: freight-sans-pro\, Helvetica\, Roboto\, Arial\, sans-serif\; font-weight: bold\; text-size-adjust: auto\;"><span style="box-sizing: inherit\; font-weight: 400\;">Not only will you be able to enjoy wine and cider - You will be able to stroll around to various local food trucks\, local vendors\, enjoy LIVE music and have the opportunity to participate in a painting class by Wine and Design.&nbsp\;</span></p>\n\n<p style="box-sizing: inherit\; margin: 0px 0px 1rem\; padding: 0px\; font-size: 22px\; line-height: 1.6\; text-rendering: optimizelegibility\; caret-color: rgb(0\, 0\, 0)\; font-family: freight-sans-pro\, Helvetica\, Roboto\, Arial\, sans-serif\; font-weight: bold\; text-size-adjust: auto\;"><span style="box-sizing: inherit\; font-weight: 400\;">Tickets will go on sale March 1st\, 2023 and will be available for purchase on our website</span></p>\n\n<p style="box-sizing: inherit\; margin: 0px 0px 1rem\; padding: 0px\; font-size: 22px\; line-height: 1.6\; text-rendering: optimizelegibility\; caret-color: rgb(0\, 0\, 0)\; font-family: freight-sans-pro\, Helvetica\, Roboto\, Arial\, sans-serif\; font-weight: bold\; text-size-adjust: auto\;"><span style="box-sizing: inherit\; font-weight: 400\;">Consumers can choose between two (2) waves of the event. &nbsp\;</span></p>\n\n<ul style="box-sizing: border-box\; margin: 0px 0px 1rem 1.25rem\; padding: 0px\; list-style-position: outside\; line-height: 1.6\; caret-color: rgb(0\, 0\, 0)\; font-family: freight-sans-pro\, Helvetica\, Roboto\, Arial\, sans-serif\; font-size: 22px\; font-weight: bold\; text-size-adjust: auto\;">\n	<li style="box-sizing: inherit\; margin: 0px\; padding: 0px\; font-size: inherit\;"><span style="box-sizing: inherit\; font-weight: 400\;">Tickets: $75/person</span></li>\n	<li style="box-sizing: inherit\; margin: 0px\; padding: 0px\; font-size: inherit\;"><span style="box-sizing: inherit\; font-weight: 400\;">11 AM - 2 PM and 3:00 PM - 6:00 PM&nbsp\;</span></li>\n	<li style="box-sizing: inherit\; margin: 0px\; padding: 0px\; font-size: inherit\;"><span style="box-sizing: inherit\; font-weight: 400\;">Pre-order your sharable charcuterie board while you purchase your tickets</span>\n	<ul style="box-sizing: border-box\; margin: 0px 0px 0px 1.25rem\; padding: 0px\; list-style-position: outside\; line-height: 1.6\; list-style-type: disc\;">\n		<li aria-level="2" style="box-sizing: inherit\; margin: 0px\; padding: 0px\; font-size: inherit\; font-weight: 400\;"><span style="box-sizing: inherit\;">Charcuterie board is only available for pre-order</span></li>\n		<li aria-level="2" style="box-sizing: inherit\; margin: 0px\; padding: 0px\; font-size: inherit\; font-weight: 400\;"><span style="box-sizing: inherit\;">Pick up your pre-ordered charcuterie board at Savor Idaho</span></li>\n		<li aria-level="2" style="box-sizing: inherit\; margin: 0px\; padding: 0px\; font-size: inherit\; font-weight: 400\;"><span style="box-sizing: inherit\;">Items are agriculturally connected to Idaho</span></li>\n	</ul>\n	</li>\n	<li aria-level="2" style="box-sizing: inherit\; margin: 0px\; padding: 0px\; font-size: inherit\;">Tickets <a href="https://www.eventbrite.com/e/savor-idaho-2023-tickets-554437185547?aff=ebdssbdestsearch" style="box-sizing: inherit\; color: rgb(67\, 88\, 100)\; text-decoration-line: none\; line-height: inherit\; cursor: pointer\;">HERE</a></li>\n	<li aria-level="2" style="box-sizing: inherit\; margin: 0px\; padding: 0px\; font-size: inherit\;">Attendees will be greeted by volunteers with a Welcome Bag\, Savor Idaho glass and bread provided by the Idaho Wheat Commission!</li>\n	<li aria-level="2" style="box-sizing: inherit\; margin: 0px\; padding: 0px\; font-size: inherit\;">FAQ About Savor Idaho <a href="https://idahowines.org/wp-content/uploads/FAQ-for-SI-2023.pdf" style="box-sizing: inherit\; color: rgb(67\, 88\, 100)\; text-decoration-line: none\; line-height: inherit\; cursor: pointer\;">HERE</a></li>\n</ul>\n
LOCATION:
UID:e.2995.4864
SEQUENCE:3
DTSTAMP:20260419T173505Z
URL:https://business.eaglechamber.com/events/details/savor-idaho-4864
END:VEVENT

END:VCALENDAR
