BEGIN:VCALENDAR
VERSION:2.0
PRODID:-//ChamberMaster//Event Calendar 2.0//EN
METHOD:PUBLISH
X-PUBLISHED-TTL:P3D
REFRESH-INTERVAL:P3D
CALSCALE:GREGORIAN
BEGIN:VEVENT
DTSTART:20260324T230000Z
DTEND:20260325T030000Z
X-MICROSOFT-CDO-ALLDAYEVENT:FALSE
SUMMARY:Rolling Hills Vineyard Farmers & Foodies Industry Dinner
DESCRIPTION:Rolling Hills Vineyard\, is hosting a Boise industry gathering at House of the Little Pig in Boise\n \n\nThe goal is to bring folks together for a relaxed evening of connection\, collaboration\, and good food.\n\n \n\nRolling Hills is part of the FARE community
X-ALT-DESC;FMTTYPE=text/html:<span style="color: rgb(34\, 34\, 34)\; font-family: Arial\, Helvetica\, sans-serif\; font-size: small\; background-color: rgb(255\, 255\, 255)\; font-weight: 700\;">Rolling Hills Vineyard</span><span style="color: rgb(34\, 34\, 34)\; font-family: Arial\, Helvetica\, sans-serif\; font-size: small\; background-color: rgb(255\, 255\, 255)\;">\, is hosting a Boise industry gathering at House of the Little Pig in Boise</span>\n<div>&nbsp\;</div>\n\n<div><span style="color: rgb(34\, 34\, 34)\; font-family: Arial\, Helvetica\, sans-serif\; font-size: small\; background-color: rgb(255\, 255\, 255)\;">The goal is to bring folks together for a relaxed evening of connection\, collaboration\, and good food.</span></div>\n\n<div>&nbsp\;</div>\n\n<div><span style="color: rgb(34\, 34\, 34)\; font-family: Arial\, Helvetica\, sans-serif\; font-size: small\; background-color: rgb(255\, 255\, 255)\;">Rolling Hills is part of the FARE community</span></div>\n
LOCATION:Rolling Hills Vineyard 152 E. 52nd Street Garden City\, ID 83714
UID:e.2995.5861
SEQUENCE:3
DTSTAMP:20260421T210625Z
URL:https://business.eaglechamber.com/events/details/rolling-hills-vineyard-farmers-foodies-industry-dinner-5861
END:VEVENT

END:VCALENDAR
