BEGIN:VCALENDAR
VERSION:2.0
PRODID:-//ChamberMaster//Event Calendar 2.0//EN
METHOD:PUBLISH
X-PUBLISHED-TTL:P3D
REFRESH-INTERVAL:P3D
CALSCALE:GREGORIAN
BEGIN:VEVENT
DTSTART:20230518T140000Z
DTEND:20230518T180000Z
X-MICROSOFT-CDO-ALLDAYEVENT:FALSE
SUMMARY:Rays for Rare 2nd Annual Golf Tournament
DESCRIPTION:Rays for Rare 2nd Annual Golf Tournament \n\n-brought to you by Tresidio Homes-\n\n\n\nSupporting Rays for Rare's mission:\n\n "Bringing uplifting support to medically fragile children and their families"
X-ALT-DESC;FMTTYPE=text/html:<strong><span style="font-weight:normal\;"><span style="font-family:lora\;"><span style="font-size:15.0pt\;">Rays for Rare 2nd Annual Golf&nbsp\;Tournament </span></span></span></strong><br />\n<strong><span style="font-weight:normal\;"><span style="font-family:lora\;"><span style="font-size:12.0pt\;">-brought to you by Tresidio Homes-</span></span></span></strong><br />\n<br />\n<em><span style="font-family:lora\;"><span style="font-size:10.0pt\;">Supporting Rays for Rare&#39\;s mission:</span></span></em><br />\n<em><span style="font-family:lora\;"><span style="font-size:10.0pt\;"><em>&nbsp\;&quot\;Bringing&nbsp\;</em></span></span><em><span style="font-family:lora\;"><span style="font-size:9.0pt\;">uplifting</span></span></em><em><span style="font-family:lora\;"><span style="font-size:10.0pt\;">&nbsp\;support to medically&nbsp\;</span></span></em><em><span style="font-family:lora\;"><span style="font-size:9.0pt\;">fragile</span></span></em><em><span style="font-family:lora\;"><span style="font-size:10.0pt\;">&nbsp\;children and their families&quot\;&nbsp\;</span></span></em></em>
LOCATION:Lakeview Golf Course 4200 W Talamore Blvd Meridian\, ID 83646
UID:e.2995.4856
SEQUENCE:3
DTSTAMP:20260419T161522Z
URL:https://business.eaglechamber.com/events/details/rays-for-rare-2nd-annual-golf-tournament-4856
END:VEVENT

END:VCALENDAR
