BEGIN:VCALENDAR
VERSION:2.0
PRODID:-//ChamberMaster//Event Calendar 2.0//EN
METHOD:PUBLISH
X-PUBLISHED-TTL:P3D
REFRESH-INTERVAL:P3D
CALSCALE:GREGORIAN
BEGIN:VEVENT
DTSTART:20230613T230000Z
DTEND:20230614T003000Z
X-MICROSOFT-CDO-ALLDAYEVENT:FALSE
SUMMARY:NEVI Program Public Meeting
DESCRIPTION:Please join the Interagency Working Group of ITD\, OEMR\, and DEQ for a public meeting covering the National Electric Vehicle Infrastructure (NEVI) Program in Idaho. The IAWG will provide background information on Idaho's first annual plan\, give an update on the program\, gather feedback\, and answer questions. If you have questions\, please feel free to reach out to the project team at info@evidaho.org. This event will be facilitated in Spanish.
X-ALT-DESC;FMTTYPE=text/html:Please join the Interagency Working Group of ITD\, OEMR\, and DEQ for a public meeting covering the National Electric Vehicle Infrastructure (NEVI) Program in Idaho. The IAWG will provide background information on Idaho&rsquo\;s first annual plan\, give an update on the program\, gather feedback\, and answer questions. If you have questions\, please feel free to reach out to the project team at info@evidaho.org. This event will be facilitated in Spanish.
LOCATION:Hispanic Cultural Center\, 315 Stampede Dr. Nampa\, ID 83687
UID:e.2995.4891
SEQUENCE:3
DTSTAMP:20260419T185901Z
URL:https://business.eaglechamber.com/events/details/nevi-program-public-meeting-4891
END:VEVENT

END:VCALENDAR
