BEGIN:VCALENDAR
VERSION:2.0
PRODID:-//ChamberMaster//Event Calendar 2.0//EN
METHOD:PUBLISH
X-PUBLISHED-TTL:P3D
REFRESH-INTERVAL:P3D
CALSCALE:GREGORIAN
BEGIN:VEVENT
DTSTART:20230614T230000Z
DTEND:20230615T003000Z
X-MICROSOFT-CDO-ALLDAYEVENT:FALSE
SUMMARY:NEVI Program Public Meeting
DESCRIPTION:Please join the Interagency Working Group of ITD\, OEMR\, and DEQ for a public meeting covering the National Electric Vehicle Infrastructure (NEVI) Program in Idaho. The IAWG will provide background information on Idaho's first annual plan\, give an update on the program\, gather feedback\, and answer questions. If you have questions\, please feel free to reach out to the project team at info@evidaho.org.
X-ALT-DESC;FMTTYPE=text/html:Please join the Interagency Working Group of ITD\, OEMR\, and DEQ for a public meeting covering the National Electric Vehicle Infrastructure (NEVI) Program in Idaho. The IAWG will provide background information on Idaho&rsquo\;s first annual plan\, give an update on the program\, gather feedback\, and answer questions. If you have questions\, please feel free to reach out to the project team at info@evidaho.org.
LOCATION:Library! at Cole & Ustick Sagebrush Room\, 7557 Ustick Rd. Boise\, ID 83704
UID:e.2995.4892
SEQUENCE:3
DTSTAMP:20260419T173500Z
URL:https://business.eaglechamber.com/events/details/nevi-program-public-meeting-06-14-2023-4892
END:VEVENT

END:VCALENDAR
