BEGIN:VCALENDAR
VERSION:2.0
PRODID:-//ChamberMaster//Event Calendar 2.0//EN
METHOD:PUBLISH
X-PUBLISHED-TTL:P3D
REFRESH-INTERVAL:P3D
CALSCALE:GREGORIAN
BEGIN:VEVENT
DTSTART:20230708T200000Z
DTEND:20230708T210000Z
X-MICROSOFT-CDO-ALLDAYEVENT:FALSE
SUMMARY:Mobile Food pantry
DESCRIPTION:Idaho Food Bank food to those in need. Every 2nd Saturday of the month
X-ALT-DESC;FMTTYPE=text/html:Idaho Food Bank food to those in need. Every 2nd Saturday of the month
LOCATION:Eagle Seventh-day Adventist Church
UID:e.2995.4895
SEQUENCE:3
DTSTAMP:20260419T203527Z
URL:https://business.eaglechamber.com/events/details/mobile-food-pantry-07-08-2023-4895
END:VEVENT

END:VCALENDAR
