BEGIN:VCALENDAR
VERSION:2.0
PRODID:-//ChamberMaster//Event Calendar 2.0//EN
METHOD:PUBLISH
X-PUBLISHED-TTL:P3D
REFRESH-INTERVAL:P3D
CALSCALE:GREGORIAN
BEGIN:VEVENT
DTSTART;VALUE=DATE:20221125
DTEND;VALUE=DATE:20221204
TRANSP:TRANSPARENT
X-MICROSOFT-CDO-ALLDAYEVENT:TRUE
SUMMARY:Mistletoe House
DESCRIPTION:Visit our Mistletoe House at Assistance League  of Boise Philanthropy Center (Building behind the Thrift Shop) for a huge selection of Christmas decor and holiday gifts. We are at 5825 N. Glenwood Street\, Garden City\, across from Hawks Stadium. Here are the hours: Friday\, Nov 25\, 8 am to 4 pm\, Saturday Nov 26\, 10 am to 4 pm\, Wednesday Nov 30 through Saturday\, Dec 3\, 10 am to 4 pm.\n\n\n\nOur Thrift Shop is open on Black Friday\, Nov 25 from 9 am to 4 pm and on Small Business Saturday\, Nov 26 from 10 am to 4 pm.\n\n\n\nBelow are some photos from prior events.
X-ALT-DESC;FMTTYPE=text/html:<span style="color:rgb(68\, 68\, 68)\; font-family:arial\,helvetica\,sans-serif\; font-size:14px">Visit our Mistletoe House at Assistance League&reg\; of Boise Philanthropy Center (Building behind the Thrift Shop) for a huge selection of Christmas decor and holiday gifts. We are at 5825 N. Glenwood Street\, Garden City\, across from Hawks Stadium. Here are the hours: Friday\, Nov 25\, 8 am to 4 pm\, Saturday Nov 26\, 10 am to 4 pm\, Wednesday Nov 30 through Saturday\, Dec 3\, 10 am to 4 pm.</span><br />\n<br />\n<span style="background-color:rgb(255\, 255\, 255)\; color:rgb(68\, 68\, 68)\; font-family:arial\,helvetica\,sans-serif\; font-size:14px">Our Thrift Shop is open on Black Friday\, Nov 25 from 9 am to 4 pm and on Small Business Saturday\, Nov 26 from 10 am to 4 pm.<br />\n<br />\nBelow are some photos from prior events.</span>
LOCATION:5825 N. Glenwood Street Garden City\, ID
UID:e.2995.4681
SEQUENCE:3
DTSTAMP:20260419T173303Z
URL:https://business.eaglechamber.com/events/details/mistletoe-house-4681
END:VEVENT

END:VCALENDAR
