BEGIN:VCALENDAR
VERSION:2.0
PRODID:-//ChamberMaster//Event Calendar 2.0//EN
METHOD:PUBLISH
X-PUBLISHED-TTL:P3D
REFRESH-INTERVAL:P3D
CALSCALE:GREGORIAN
BEGIN:VEVENT
DTSTART:20230929T140000Z
DTEND:20230929T230000Z
X-MICROSOFT-CDO-ALLDAYEVENT:FALSE
SUMMARY:Maui Jim & Zeal Optics Trunk Show
DESCRIPTION:We are excited to announce we will be hosting one more trunk show for 2023\, featuring Zeal Optics and Maui Jim! Join us to celebrate the new season and fall for your perfect pair! Both collections have a great variety of sunglasses and snow goggles to fit your lifestyle needs. Nate & Rob\, our brand representatives\, will be in office with an exclusive sneak peak of this seasons latest releases. We will have one-day only savings including a BOGO deal! Come enjoy food\, refreshments\, and giveaways while you shop for your new sunglasses!
X-ALT-DESC;FMTTYPE=text/html:We are excited to announce we will be hosting one more trunk show for 2023\, featuring Zeal Optics and Maui Jim! Join us to celebrate the new season and fall for your perfect pair! Both collections have a great variety of sunglasses and snow goggles to fit your lifestyle needs. Nate &amp\; Rob\, our brand representatives\, will be in office with an exclusive sneak peak of this seasons latest releases. We will have one-day only savings including a BOGO deal! Come enjoy food\, refreshments\, and giveaways while you shop for your new sunglasses!
LOCATION:Six One Six Vision Center 27 N. Fisher Park Way #101 Eagle\, ID 83616
UID:e.2995.4923
SEQUENCE:3
DTSTAMP:20260419T173805Z
URL:https://business.eaglechamber.com/events/details/maui-jim-zeal-optics-trunk-show-4923
END:VEVENT

END:VCALENDAR
