BEGIN:VCALENDAR
VERSION:2.0
PRODID:-//ChamberMaster//Event Calendar 2.0//EN
METHOD:PUBLISH
X-PUBLISHED-TTL:P3D
REFRESH-INTERVAL:P3D
CALSCALE:GREGORIAN
BEGIN:VEVENT
DTSTART:20221203T010000Z
DTEND:20221204T033000Z
X-MICROSOFT-CDO-ALLDAYEVENT:FALSE
SUMMARY:Live Nativity
DESCRIPTION:Come start the Christmas season by reliving the real reason for Christmas. Jesus! Come experience the Bethlehem marketplace\, the inn\, shepherds\, animals\, and of course baby Jesus. Friday 12/2\, 6pm to 8:30pm and Saturday 12/3\, 5pm to 8:30pm.
X-ALT-DESC;FMTTYPE=text/html:Come start the Christmas season by reliving the real reason for Christmas. Jesus! Come experience the Bethlehem marketplace\, the inn\, shepherds\, animals\, and of course baby Jesus. Friday 12/2\, 6pm to 8:30pm and Saturday 12/3\, 5pm to 8:30pm.
LOCATION:Eagle Seventh-day Adventist Church 538 W. State St. Eagle\, ID 83616
UID:e.2995.4543
SEQUENCE:3
DTSTAMP:20260419T173251Z
URL:https://business.eaglechamber.com/events/details/live-nativity-4543
END:VEVENT

END:VCALENDAR
