BEGIN:VCALENDAR
VERSION:2.0
PRODID:-//ChamberMaster//Event Calendar 2.0//EN
METHOD:PUBLISH
X-PUBLISHED-TTL:P3D
REFRESH-INTERVAL:P3D
CALSCALE:GREGORIAN
BEGIN:VEVENT
DTSTART:20230504T190000Z
DTEND:20230505T000000Z
X-MICROSOFT-CDO-ALLDAYEVENT:FALSE
SUMMARY:Joseph Ribkoff Trunk Show - ChambRaye
DESCRIPTION:Join ChamBraye Boutique in downtown Eagle for a Joseph Ribkoff trunk show with wine\, snacks\, discounts and a giveaway! Lynn will be providing an exclusive sneak peek for this 2023 collection!
X-ALT-DESC;FMTTYPE=text/html:Join ChamBraye Boutique in downtown Eagle for a Joseph Ribkoff trunk show with wine\, snacks\, discounts and a giveaway! Lynn will be providing an exclusive sneak peek for this 2023 collection!&nbsp\;
LOCATION:118 E State St\, Eagle\, ID 83616
UID:e.2995.4880
SEQUENCE:3
DTSTAMP:20260419T174612Z
URL:https://business.eaglechamber.com/events/details/joseph-ribkoff-trunk-show-chambraye-4880
END:VEVENT

END:VCALENDAR
