BEGIN:VCALENDAR
VERSION:2.0
PRODID:-//ChamberMaster//Event Calendar 2.0//EN
METHOD:PUBLISH
X-PUBLISHED-TTL:P3D
REFRESH-INTERVAL:P3D
CALSCALE:GREGORIAN
BEGIN:VEVENT
DTSTART;VALUE=DATE:20230120
DTEND;VALUE=DATE:20230122
TRANSP:TRANSPARENT
X-MICROSOFT-CDO-ALLDAYEVENT:TRUE
SUMMARY:January Exhibition Event & Open House
DESCRIPTION:Join us at the Idaho Art Gallery\, meet the artists\, view the exhibition and enjoy free wine and appetizers.
X-ALT-DESC;FMTTYPE=text/html:<span style="font-size:14.0pt\;">Join us at the <a href="https://landscapepaintings.org/jan-2022-special-exhibition/">Idaho Art Gallery</a>\, meet the artists\, view the exhibition and enjoy free wine and appetizers.</span>
LOCATION:211 E Pine Ave Meridian ID 83642
UID:e.2995.4822
SEQUENCE:3
DTSTAMP:20260419T173525Z
URL:https://business.eaglechamber.com/events/details/january-exhibition-event-open-house-4822
END:VEVENT

END:VCALENDAR
