BEGIN:VCALENDAR
VERSION:2.0
PRODID:-//ChamberMaster//Event Calendar 2.0//EN
METHOD:PUBLISH
X-PUBLISHED-TTL:P3D
REFRESH-INTERVAL:P3D
CALSCALE:GREGORIAN
BEGIN:VEVENT
DTSTART:20230511T160000Z
DTEND:20230511T170000Z
X-MICROSOFT-CDO-ALLDAYEVENT:FALSE
SUMMARY:Is a Franchise for me? Zions Bank BRC Workshop
DESCRIPTION:Is a Franchise for me?\n\nThursday\, May 11\, 2023 - 10:00am to 11:00am\n\nRegister   EventBrite  --  Click DETAILS for registration window.\n\n \n\nIf you're an experienced business professional\, a seasoned entrepreneur\, or exploring the idea of business or franchise ownership for the first time\, this event is an excellent first step to getting informed. Use this information toward creating a more predictable future! \n\n \n\nYou will learn:\n\n	To evaluate starting a franchise vs. an independent business vs. buying an existing business\n	The best type of franchises for today's economy\n	The myths about franchising and the mistakes to avoid\n	The cost and risks of starting a franchise\n	How to research a franchise and determine if it's the right choice for you\n\n \n\nGuest Presenter   Blair Nicol\n\n\n\nBlair is the Principal and Owner of FranNet for the Pacific Northwest and Southern California.  He is also the Vice Chairman and one of the 4 principal owners of the parent company for FranNet with over 50 offices in North America.  He is consistently mentioned as one of the top franchise consultants and franchise advisors in the franchise industry.  He speaks regularly about franchising and has helped thousands of franchisees find the perfect franchise for them over the past 20+ years he has been in the franchise industry.  Blair graduated from Colorado State University with a degree in Finance and Real Estate.  He also enjoys gold\, fishing\, surfing\, biking and other outdoor activities with his wife\, daughter\, and son.\n\n\n\nWebinar Details\n\n          Cost: Complimentary\, registration is required to receive the meeting invite\n\n          Place:  Virtual session using Microsoft Teams Technology\n\n          Registration:  click on the EventBrite link below the choose DETAILS for Registration window or call (801) 844-7900\n\n      EventBrite
X-ALT-DESC;FMTTYPE=text/html:<strong><span style="font-size:16.0pt\;">Is a Franchise for me?</span></strong><br />\n<strong><span style="font-size:16.0pt\;">Thursday\, May 11\, 2023 - 10:00am to 11:00am</span></strong><br />\n<strong><span style="font-family:century gothic\,sans-serif\;"><span style="font-size:18.0pt\;">Register &ndash\; </span></span></strong><a href="https://www.eventbrite.com/e/is-a-franchise-for-me-tickets-628579617557"><span style="font-family:century gothic\,sans-serif\;"><span style="font-size:18.0pt\;">EventBrite</span></span></a><span style="font-family:century gothic\,sans-serif\;"><span style="font-size:18.0pt\;">&nbsp\; --&nbsp\; </span></span><span style="color:black\;"><span style="font-family:century gothic\,sans-serif\;"><span style="font-size:14.0pt\;">Click DETAILS for registration window.</span></span></span><br />\n&nbsp\;<br />\n<span style="font-size:12.0pt\;">If you&#39\;re an experienced business professional\, a seasoned entrepreneur\, or exploring the idea of business or franchise ownership for the first time\, this event is an excellent first step to getting informed. Use this information toward creating a more predictable future!&nbsp\;</span><br />\n&nbsp\;<br />\n<span style="font-size:12.0pt\;">You will learn:</span>\n<ul>\n	<li><span style="font-size:12.0pt\;">To evaluate starting a franchise vs. an independent business vs. buying an existing business</span></li>\n	<li><span style="font-size:12.0pt\;">The best type of franchises for today&rsquo\;s economy</span></li>\n	<li><span style="font-size:12.0pt\;">The myths about franchising and the mistakes to avoid</span></li>\n	<li><span style="font-size:12.0pt\;">The cost and risks of starting a franchise</span></li>\n	<li><span style="font-size:12.0pt\;">How to research a franchise and determine if it&rsquo\;s the right choice for you</span></li>\n</ul>\n&nbsp\;<br />\n<strong><span style="font-size:12.0pt\;">Guest Presenter &ndash\; Blair Nicol</span></strong><br />\n<br />\n<span style="color:black\;"><span style="font-size:12.0pt\;">Blair is the Principal and Owner of FranNet for the Pacific Northwest and Southern California.&nbsp\; He is also the Vice Chairman and one of the 4 principal owners of the parent company for FranNet with over 50 offices in North America.&nbsp\; He is consistently mentioned as one of the top franchise consultants and franchise advisors in the franchise industry.&nbsp\; He speaks regularly about franchising and has helped thousands of franchisees find the perfect franchise for them over the past 20+ years he has been in the franchise industry.&nbsp\; Blair graduated from Colorado State University with a degree in Finance and Real Estate.&nbsp\; He also enjoys gold\, fishing\, surfing\, biking and other outdoor activities with his wife\, daughter\, and son.</span></span><br />\n<br />\n<strong><span style="font-size:12.0pt\;">Webinar Details</span></strong><br />\n<span style="font-size:12.0pt\;">&nbsp\;&nbsp\;&nbsp\;&nbsp\;&nbsp\;&nbsp\;&nbsp\;&nbsp\;&nbsp\; Cost: Complimentary\, registration is required to receive the meeting invite</span><br />\n<span style="font-size:12.0pt\;">&nbsp\;&nbsp\;&nbsp\;&nbsp\;&nbsp\;&nbsp\;&nbsp\;&nbsp\;&nbsp\; Place:&nbsp\; Virtual session using Microsoft Teams Technology</span><br />\n<span style="font-size:12.0pt\;">&nbsp\;&nbsp\;&nbsp\;&nbsp\;&nbsp\;&nbsp\;&nbsp\;&nbsp\;&nbsp\; Registration:&nbsp\; click on the EventBrite link below the choose DETAILS for Registration window or call (801) 844-7900</span><br />\n&nbsp\;&nbsp\;&nbsp\;&nbsp\;&nbsp\; <a href="https://www.eventbrite.com/e/is-a-franchise-for-me-tickets-628579617557"><span style="font-size:12.0pt\;">EventBrite</span></a><br />\n<br />\n&nbsp\;
LOCATION:
UID:e.2995.4881
SEQUENCE:3
DTSTAMP:20260419T175238Z
URL:https://business.eaglechamber.com/events/details/is-a-franchise-for-me-zions-bank-brc-workshop-4881
END:VEVENT

END:VCALENDAR
