BEGIN:VCALENDAR
VERSION:2.0
PRODID:-//ChamberMaster//Event Calendar 2.0//EN
METHOD:PUBLISH
X-PUBLISHED-TTL:P3D
REFRESH-INTERVAL:P3D
CALSCALE:GREGORIAN
BEGIN:VEVENT
DTSTART:20221105T160000Z
DTEND:20221105T170000Z
X-MICROSOFT-CDO-ALLDAYEVENT:FALSE
SUMMARY:Idaho Veterans Parade
DESCRIPTION:5th Anniversary of the United States Air Force For 75 years\, American Airmen are called to "Innovate\, Accelerate and Thrive" as the U.S. Air Force and Department of the Air Force approach their 75th anniversaries on Sept. 18\, 2022. Airmen will always be there to provide America with the airpower it needs to defend the nation\, deter or defeat our adversaries\, reassure our partners and allies\, and help diplomacy proceed from a position of strength. Throughout the Air Force history\, it has also played in integral role in Humanitarian missions around the world with Air Delivery\, Goodwill Missions\, Relief & Rescue\, Global Firefighting and Critical Care which involves the airlift of relief workers\, equipment\, or supplies to victims of natural disasters\, major accidents\, civil conflicts\, or political emergencies. OUR MISSION The Idaho Veterans Parade's Mission is to recognize the sacrifices and honor the services of all Armed Forces veterans of the United States of America and heighten community awareness\, appreciation\, and value of the military service to our nation.
X-ALT-DESC;FMTTYPE=text/html:5th Anniversary of the United States Air Force For 75 years\, American Airmen are called to &ldquo\;Innovate\, Accelerate and Thrive&rdquo\; as the U.S. Air Force and Department of the Air Force approach their 75th anniversaries on Sept. 18\, 2022. Airmen will always be there to provide America with the airpower it needs to defend the nation\, deter or defeat our adversaries\, reassure our partners and allies\, and help diplomacy proceed from a position of strength. Throughout the Air Force history\, it has also played in integral role in Humanitarian missions around the world with Air Delivery\, Goodwill Missions\, Relief &amp\; Rescue\, Global Firefighting and Critical Care which involves the airlift of relief workers\, equipment\, or supplies to victims of natural disasters\, major accidents\, civil conflicts\, or political emergencies. OUR MISSION The Idaho Veterans Parade&#39\;s Mission is to recognize the sacrifices and honor the services of all Armed Forces veterans of the United States of America and heighten community awareness\, appreciation\, and value of the military service to our nation.
LOCATION:Downtown Boise starting on 8th & Jefferson and ending on 11th & Bannock
UID:e.2995.4534
SEQUENCE:3
DTSTAMP:20260419T203338Z
URL:https://business.eaglechamber.com/events/details/idaho-veterans-parade-4534
END:VEVENT

END:VCALENDAR
