BEGIN:VCALENDAR
VERSION:2.0
PRODID:-//ChamberMaster//Event Calendar 2.0//EN
METHOD:PUBLISH
X-PUBLISHED-TTL:P3D
REFRESH-INTERVAL:P3D
CALSCALE:GREGORIAN
BEGIN:VEVENT
DTSTART:20230512T230000Z
DTEND:20230513T020000Z
X-MICROSOFT-CDO-ALLDAYEVENT:FALSE
SUMMARY:Franz Witte's Wine & Flowers
DESCRIPTION:Friday\, May 12th\, Wine & Flowers | 5PM   8PM\n\nWine & Flowers is back to kick off Mother's Day weekend! Come on out and enjoy an evening stroll among our annuals with a glass of wine in hand. You won't want to miss it!\n\nStep 1: Bring your own pot or purchase one from us.\n\nStep 2: Select your plants. We will total these into the final price of your arrangement.\n\nStep 3: We do the dirty work while you enjoy your complimentary glass of wine.\n\nThere is an upfront potting fee of $10 and we will charge an additional $2.50 per scoop of soil. Your first beverage is free and another can be purchased after that.\n\nLINEUP\n\nMusic: Leta Harris Neustaedter\n\nFood & Beverage: Dude DeWalt Cellars Wine\, Hop Valley Beer
X-ALT-DESC;FMTTYPE=text/html:<div class="tribe-events-single-event-description tribe-events-content">\n<h3><strong>Friday\, May 12th\, Wine &amp\; Flowers | 5PM &ndash\; 8PM</strong></h3>\n\n<p>Wine &amp\; Flowers is back to kick off Mother&rsquo\;s Day weekend! Come on out and enjoy an evening stroll among our annuals with a glass of wine in hand. You won&rsquo\;t want to miss it!</p>\n\n<p><strong>Step 1:</strong> Bring your own pot or purchase one from us.</p>\n\n<p><strong>Step 2:</strong> Select your plants. We will total these into the final price of your arrangement.</p>\n\n<p><strong>Step 3:</strong> We do the dirty work while you enjoy your complimentary glass of wine.</p>\n\n<p><em>There is an upfront potting fee of $10 and we will charge an additional $2.50 per scoop of soil. Your first beverage is free and another can be purchased after that.</em></p>\n\n<p><strong>LINEUP</strong></p>\n\n<p><strong>Music:</strong> <a href="https://www.facebook.com/leta.neustaedter" rel="noopener" target="_blank">Leta Harris Neustaedter</a></p>\n\n<p><strong>Food &amp\; Beverage:</strong> <a href="https://www.facebook.com/dudedewaltcellars" rel="noopener" target="_blank">Dude DeWalt Cellars</a> Wine\, <a href="https://www.facebook.com/HopValleyBrewing" rel="noopener" target="_blank">Hop Valley</a> Beer</p>\n</div>\n
LOCATION:Franz Witte 20005 11th Ave N. Nampa\, 83687
UID:e.2995.4878
SEQUENCE:3
DTSTAMP:20260419T161253Z
URL:https://business.eaglechamber.com/events/details/franz-witte-s-wine-flowers-4878
END:VEVENT

END:VCALENDAR
