BEGIN:VCALENDAR
VERSION:2.0
PRODID:-//ChamberMaster//Event Calendar 2.0//EN
METHOD:PUBLISH
X-PUBLISHED-TTL:P3D
REFRESH-INTERVAL:P3D
CALSCALE:GREGORIAN
BEGIN:VEVENT
DTSTART:20230106T000000Z
DTEND:20230106T040000Z
X-MICROSOFT-CDO-ALLDAYEVENT:FALSE
SUMMARY:First Thursday at the Neighborhood Hub
DESCRIPTION:Join Idaho Art Gallery at Columbia Bank for First Thursday.\n\n\n\nMeet the artist\, view the exhibition and enjoy free wine and appetizers.
X-ALT-DESC;FMTTYPE=text/html:<span style="font-size:14.0pt\;">Join Idaho Art Gallery at Columbia Bank for First Thursday.</span><br />\n<br />\n<span style="font-size:14.0pt\;">Meet the artist\, view the exhibition and enjoy free wine and appetizers. </span>
LOCATION:Columbia Bank 190 N 8th St Boise\, ID 83702
UID:e.2995.4821
SEQUENCE:3
DTSTAMP:20260419T162532Z
URL:https://business.eaglechamber.com/events/details/first-thursday-at-the-neighborhood-hub-4821
END:VEVENT

END:VCALENDAR
