BEGIN:VCALENDAR
VERSION:2.0
PRODID:-//ChamberMaster//Event Calendar 2.0//EN
METHOD:PUBLISH
X-PUBLISHED-TTL:P3D
REFRESH-INTERVAL:P3D
CALSCALE:GREGORIAN
BEGIN:VEVENT
DTSTART:20221203T010000Z
DTEND:20221204T033000Z
X-MICROSOFT-CDO-ALLDAYEVENT:FALSE
SUMMARY:Eagle Live Nativity
DESCRIPTION:Come start the Christmas season by reliving the real reason for Christmas. Jesus! Come experience the Bethlehem marketplace\, the inn\, shepherds\, animals\, and of course baby Jesus. The event will be Friday 12/2\, 6pm to 8:30pm and Saturday 12/3\, 5pm to 8:30pm. Eagle SDA Church 538 W. State St. Eagle\, ID 83616 208-939 6625 www.eagleadventist.com eaglesdachurch@gmail.com https://www.facebook.com/#!/EagleSDAChurch
X-ALT-DESC;FMTTYPE=text/html:Come start the Christmas season by reliving the real reason for Christmas. Jesus! Come experience the Bethlehem marketplace\, the inn\, shepherds\, animals\, and of course baby Jesus. The event will be Friday 12/2\, 6pm to 8:30pm and Saturday 12/3\, 5pm to 8:30pm. Eagle SDA Church 538 W. State St. Eagle\, ID 83616 208-939 6625 www.eagleadventist.com eaglesdachurch@gmail.com https://www.facebook.com/#!/EagleSDAChurch
LOCATION:538 W. State St.
UID:e.2995.4673
SEQUENCE:3
DTSTAMP:20260419T173525Z
URL:https://business.eaglechamber.com/events/details/eagle-live-nativity-12-02-2022-4673
END:VEVENT

END:VCALENDAR
