BEGIN:VCALENDAR
VERSION:2.0
PRODID:-//ChamberMaster//Event Calendar 2.0//EN
METHOD:PUBLISH
X-PUBLISHED-TTL:P3D
REFRESH-INTERVAL:P3D
CALSCALE:GREGORIAN
BEGIN:VEVENT
DTSTART;VALUE=DATE:20230915
DTEND;VALUE=DATE:20230917
TRANSP:TRANSPARENT
X-MICROSOFT-CDO-ALLDAYEVENT:TRUE
SUMMARY:Eagle Jazz Festival
DESCRIPTION:The 2nd annual Eagle Jazz Festival is scheduled for Friday\, September 15th at Heritage Park in downtown Eagle\, and on Saturday September 16th at the 1st Miracle Event Center (formerly The Flats 16).\n\n\n\nThe lineup of musicians has not yet been published\, but there will be world-class jazz right here in Eagle and most of the performers will be locals from Treasure Valley. Also\, look for special guests\, including all-star jazz students! \n\n More information coming soon at www.eaglejazzfestival.org
X-ALT-DESC;FMTTYPE=text/html:<p class="paragraph" style="background:white"><span class="normaltextrun"><span style="font-size: 12pt\; font-family: Corbel\, sans-serif\;">The 2nd annual Eagle Jazz Festival is scheduled for Friday\, September 15th at Heritage Park in downtown Eagle\, and on Saturday September 16th at the 1st Miracle Event Center (formerly The Flats 16).</span></span><br />\n<span data-contrast="auto" style="font-variant-ligatures: none !important"><span style="font-size: 12pt\; font-family: Corbel\, sans-serif\;"><!--[endif]--></span><o:p></o:p></span></p>\n\n<p class="paragraph" style="background:white\;overflow-wrap:break-word"><span class="normaltextrun"><span style="font-size: 12pt\; font-family: Corbel\, sans-serif\;"><span data-contrast="auto" style="font-variant-ligatures: none !important">The lineup of musicians has not yet been published\, but there will be world-class jazz right here in Eagle and most of the performers will be locals from Treasure&nbsp\;Valley. Also\, look for special guests\, including all-star jazz students!</span></span></span><span data-ccp-props="{&quot\;201341983&quot\;:0\,&quot\;335551550&quot\;:1\,&quot\;335551620&quot\;:1\,&quot\;335559738&quot\;:0\,&quot\;335559739&quot\;:240\,&quot\;335559740&quot\;:259}"><span class="eop"><span style="font-size: 12pt\; font-family: Corbel\, sans-serif\;">&nbsp\;</span></span></span><span style="font-size: 12pt\; font-family: &quot\;Segoe UI&quot\;\, sans-serif\;"><o:p></o:p></span></p>\n\n<p class="paragraph" style="background:white\;overflow-wrap:break-word"><span class="eop"><span style="font-size: 12pt\; font-family: Corbel\, sans-serif\;">&nbsp\;</span></span><span data-contrast="auto" style="font-variant-ligatures: none !important"><span class="normaltextrun"><span style="font-size: 12pt\; font-family: Corbel\, sans-serif\;">More information coming soon at </span></span></span><span style="font-size: 12pt\; font-family: &quot\;Segoe UI&quot\;\, sans-serif\;"><a href="http://www.eaglejazzfestival.org/" target="_blank"><span class="normaltextrun"><span data-ccp-charstyle="Hyperlink"><span style="font-family: Corbel\, sans-serif\; color: rgb(5\, 99\, 193)\; text-decoration-line: none\;"><span data-contrast="none" style="font-variant-ligatures: none !important">www.eaglejazzfestival.org</span></span></span></span></a></span><span class="eop"><span style="font-size: 12pt\; font-family: Corbel\, sans-serif\;">&nbsp\;</span></span><span style="font-size: 12pt\; font-family: &quot\;Segoe UI&quot\;\, sans-serif\;"><o:p></o:p></span></p>\n
LOCATION:Friday\, Sept. 15th Heritage Park in Downtown Eagle Saturday\, Sept. 16th 1st Miracle Event Center
UID:e.2995.4886
SEQUENCE:3
DTSTAMP:20260419T190118Z
URL:https://business.eaglechamber.com/events/details/eagle-jazz-festival-4886
END:VEVENT

END:VCALENDAR
