BEGIN:VCALENDAR
VERSION:2.0
PRODID:-//ChamberMaster//Event Calendar 2.0//EN
METHOD:PUBLISH
X-PUBLISHED-TTL:P3D
REFRESH-INTERVAL:P3D
CALSCALE:GREGORIAN
BEGIN:VEVENT
DTSTART:20260527T223000Z
DTEND:20260527T230000Z
X-MICROSOFT-CDO-ALLDAYEVENT:FALSE
SUMMARY:Eagle Chamber Ribbon Cutting - The Ponderosa Estate
DESCRIPTION:
X-ALT-DESC;FMTTYPE=text/html:
LOCATION:
UID:e.2995.5907
SEQUENCE:3
DTSTAMP:20260423T082327Z
URL:https://business.eaglechamber.com/events/details/eagle-chamber-ribbon-cutting-the-ponderosa-estate-5907
END:VEVENT

END:VCALENDAR
