BEGIN:VCALENDAR
VERSION:2.0
PRODID:-//ChamberMaster//Event Calendar 2.0//EN
METHOD:PUBLISH
X-PUBLISHED-TTL:P3D
REFRESH-INTERVAL:P3D
CALSCALE:GREGORIAN
BEGIN:VEVENT
DTSTART:20261217T233000Z
DTEND:20261218T013000Z
X-MICROSOFT-CDO-ALLDAYEVENT:FALSE
SUMMARY:Eagle Chamber BAH -Amarant Design & Build Center
DESCRIPTION:
X-ALT-DESC;FMTTYPE=text/html:
LOCATION:
UID:e.2995.5910
SEQUENCE:3
DTSTAMP:20260425T110734Z
URL:https://business.eaglechamber.com/events/details/eagle-chamber-bah-amarant-design-build-center-5910
END:VEVENT

END:VCALENDAR
