BEGIN:VCALENDAR
VERSION:2.0
PRODID:-//ChamberMaster//Event Calendar 2.0//EN
METHOD:PUBLISH
X-PUBLISHED-TTL:P3D
REFRESH-INTERVAL:P3D
CALSCALE:GREGORIAN
BEGIN:VEVENT
DTSTART:20230928T230000Z
DTEND:20230929T020000Z
X-MICROSOFT-CDO-ALLDAYEVENT:FALSE
SUMMARY:Eagle Art Walk
DESCRIPTION:EAGLE ART WALK - Thurs Sept 28 | 5:00 - 8:00pm\nStroll through the streets\, visit with artists\, shop handmade crafts\, and enjoy live music at Heritage Park during the Eagle Art Walk. Seek hidden treasure and try to find one of the 12 hand blown glass treasures hidden along State Street. They could be in or outside a business. If you find a treasure\, share it on @eagleartwalk Instagram with #eagleartwalk.\n\n\n\nFor more information visit: https://eagleartwalk.com/
X-ALT-DESC;FMTTYPE=text/html:<h2><span style="font-weight:normal\;"><span style="font-family:times new roman\,serif\;">EAGLE ART WALK - Thurs Sept 28 | 5:00 - 8:00pm</span></span></h2>\n<span style="font-family:times new roman\,serif\;"><span style="font-size:10.0pt\;">Stroll through the streets\, visit with artists\, shop handmade crafts\, and enjoy live music at Heritage Park during the Eagle Art Walk. Seek hidden treasure and try to find one of the 12 hand blown glass treasures hidden along State Street. They could be in or outside a business. If you find a treasure\, share it on @eagleartwalk Instagram with #eagleartwalk.</span></span><br />\n<br />\n<span style="font-family:times new roman\,serif\;"><span style="font-size:10.0pt\;">For more information visit: <a href="https://eagleartwalk.com/eagleartwalk/">https://eagleartwalk.com/</a></span></span>
LOCATION:
UID:e.2995.5050
SEQUENCE:3
DTSTAMP:20260419T173339Z
URL:https://business.eaglechamber.com/events/details/eagle-art-walk-5050
END:VEVENT

END:VCALENDAR
