BEGIN:VCALENDAR
VERSION:2.0
PRODID:-//ChamberMaster//Event Calendar 2.0//EN
METHOD:PUBLISH
X-PUBLISHED-TTL:P3D
REFRESH-INTERVAL:P3D
CALSCALE:GREGORIAN
BEGIN:VEVENT
DTSTART:20231026T190000Z
DTEND:20231026T230000Z
X-MICROSOFT-CDO-ALLDAYEVENT:FALSE
SUMMARY:Colliers 20th Annual CRE Outlook Conference
DESCRIPTION:Colliers is excited to welcome you back to be a part of the 20th Anniversary of the LARGEST CRE CONFERENCE IN IDAHO! To celebrate this epic milestone\, we will be featuring a major keynote speaker\, rich discussion from our Colliers market specialists and extended 1:1 pre- and post-event networking opportunities with our Colliers team and attendees  all happening at this one-day event! Join us in-person at our new location   the Boise Centre West in the downtown Grove Plaza. If you are unable to attend in-person\, the Outlook conference will be streamed live on our event website at colliersidahooutlook.com. Event details: 1:00 PM   Check-In/Pre-event Networking 2:00-3:30 PM   Conference 3:30 PM   Reception/Post-event Networking **If you are a licensed commercial real estate agent or broker outside of the Colliers network and are interested in attending the conference\, we invite you to attend virtually.
X-ALT-DESC;FMTTYPE=text/html:Colliers is excited to welcome you back to be a part of the 20th Anniversary of the LARGEST CRE CONFERENCE IN IDAHO! To celebrate this epic milestone\, we will be featuring a major keynote speaker\, rich discussion from our Colliers market specialists and extended 1:1 pre- and post-event networking opportunities with our Colliers team and attendees&ndash\; all happening at this one-day event! Join us in-person at our new location &ndash\; the Boise Centre West in the downtown Grove Plaza. If you are unable to attend in-person\, the Outlook conference will be streamed live on our event website at colliersidahooutlook.com. Event details: 1:00 PM &ndash\; Check-In/Pre-event Networking 2:00-3:30 PM &ndash\; Conference 3:30 PM &ndash\; Reception/Post-event Networking **If you are a licensed commercial real estate agent or broker outside of the Colliers network and are interested in attending the conference\, we invite you to attend virtually.
LOCATION:Boise Centre West 850 W Front Street Boise\, Idaho 83702
UID:e.2995.4909
SEQUENCE:3
DTSTAMP:20260419T160033Z
URL:https://business.eaglechamber.com/events/details/colliers-20th-annual-cre-outlook-conference-4909
END:VEVENT

END:VCALENDAR
