BEGIN:VCALENDAR
VERSION:2.0
PRODID:-//ChamberMaster//Event Calendar 2.0//EN
METHOD:PUBLISH
X-PUBLISHED-TTL:P3D
REFRESH-INTERVAL:P3D
CALSCALE:GREGORIAN
BEGIN:VEVENT
DTSTART:20230719T150000Z
DTEND:20230719T220000Z
X-MICROSOFT-CDO-ALLDAYEVENT:FALSE
SUMMARY:Christmas in July - Assistance League of Boise Thrift Shop
DESCRIPTION:Can't wait for Christmas? Assistance League  of Boise Thrift Shop has your answer! We are holding Christmas in July in our philanthropy center building behind our thrift shop several days: July 19th 9 am to 4 pm and July 20-22 and July 26-29 10 am to 4 pm. There will be Christmas decor\, ornaments\, trees\, tableware and so much more for sale! Below are some photos from last year's sale.
X-ALT-DESC;FMTTYPE=text/html:<span style="background-color:rgb(255\, 255\, 255)\; color:rgb(51\, 51\, 51)\; font-family:sans-serif\,arial\,verdana\,trebuchet ms\; font-size:13px">Can&#39\;t wait for Christmas? Assistance League&reg\; of Boise Thrift Shop has your answer! We are holding Christmas in July in our philanthropy center building behind our thrift shop several days: July 19th 9 am to 4 pm and July 20-22 and July 26-29 10 am to 4 pm. There will be Christmas decor\, ornaments\, trees\, tableware and so much more for sale! Below are some photos from last year&#39\;s sale.&nbsp\;</span>
LOCATION:Assistance League of Boise Building behind the Thrift Shop 5825 N. Glenwood Street Garden City\, ID
UID:e.2995.4900
SEQUENCE:3
DTSTAMP:20260419T203814Z
URL:https://business.eaglechamber.com/events/details/christmas-in-july-assistance-league-of-boise-thrift-shop-4900
END:VEVENT

END:VCALENDAR
