BEGIN:VCALENDAR
VERSION:2.0
PRODID:-//ChamberMaster//Event Calendar 2.0//EN
METHOD:PUBLISH
X-PUBLISHED-TTL:P3D
REFRESH-INTERVAL:P3D
CALSCALE:GREGORIAN
BEGIN:VEVENT
DTSTART:20230608T160000Z
DTEND:20230608T170000Z
X-MICROSOFT-CDO-ALLDAYEVENT:FALSE
SUMMARY:Business Resource Center - Zions Bank
DESCRIPTION:Targeted Marketing to Drive \n\nExtraordinary Results For Your Business\n\nThursday\, June 8\, 2023 - 10:00am to 11:00am\n\nRegister  EventBrite Click DETAILS for registration window\n\n \n\nDuring this presentation you will learn how to identify the existing tools you have available to promote or market your business\, how to identify your target audiences\, what paid forms of marketing are most cost effective and efficient\, and what are basic ingredients to create compelling messaging that will motivate someone to do business with you.\n\n \n\nOur Guest Presenter   Brian Epperson\, Target River Marketing   CEO\n\n \n\nBrian Epperson is the CEO of Target River\, recognized as the Best Targeted Marketing Agency in the United States.  He is the creator of the #WhoHowWhat strategy the agency deploys to deliver extraordinary results to clients in numerous industries.  Brian strives daily to serve the community through involvement of the Board of Directors for several chambers of commerce and nonprofits and is an advisor to numerous school systems.  Webinar Details\n\n                Cost: Complimentary\, registration is required to receive the meeting invite\n\n                Place:  Virtual session using Microsoft Teams Technology\n\n                Registration:  click on the Eventbrite link below or call (801) 844-7900\n\n                                EventBrite
X-ALT-DESC;FMTTYPE=text/html:<strong><span style="font-size:18.0pt\;">Targeted Marketing to Drive </span></strong><br />\n<strong><span style="font-size:18.0pt\;">Extraordinary Results For Your Business</span></strong><br />\n<strong><span style="font-size:18.0pt\;">Thursday\, June 8\, 2023 - 10:00am to 11:00am</span></strong><br />\n<strong><span style="font-size:18.0pt\;">Register &ndash\;</span></strong><a href="https://www.eventbrite.com/e/targeted-marketing-to-drive-extraordinary-results-for-your-business-tickets-638954178147"><strong><span style="font-size:18.0pt\;">EventBrite</span></strong></a> <span style="color:black\;"><span style="font-size:12.0pt\;">Click DETAILS for registration window</span></span><br />\n&nbsp\;<br />\n<span style="font-size:12.0pt\;">During this presentation you will learn how to identify the existing tools you have available to promote or market your business\, how to identify your target audiences\, what paid forms of marketing are most cost effective and efficient\, and what are basic ingredients to create compelling messaging that will motivate someone to do business with you.</span><br />\n&nbsp\;<br />\n<strong><span style="font-size:12.0pt\;">Our Guest Presenter &ndash\; Brian Epperson\, Target River Marketing &ndash\; CEO</span></strong><br />\n&nbsp\;<br />\n<span style="font-size: 12pt\; color: black\;">Brian Epperson is the CEO of Target River\, recognized as the Best Targeted Marketing Agency in the United States.&nbsp\; He is the creator of the #WhoHowWhat strategy the agency deploys to deliver extraordinary results to clients in numerous industries.&nbsp\; Brian strives daily to serve the community through involvement of the Board of Directors for several chambers of commerce and nonprofits and is an advisor to numerous school systems.</span>&nbsp\;&nbsp\;<strong>Webinar Details</strong><br />\n&nbsp\;&nbsp\;&nbsp\;&nbsp\;&nbsp\;&nbsp\;&nbsp\;&nbsp\;&nbsp\;&nbsp\;&nbsp\;&nbsp\;&nbsp\;&nbsp\;&nbsp\; Cost: Complimentary\, registration is required to receive the meeting invite<br />\n&nbsp\;&nbsp\;&nbsp\;&nbsp\;&nbsp\;&nbsp\;&nbsp\;&nbsp\;&nbsp\;&nbsp\;&nbsp\;&nbsp\;&nbsp\;&nbsp\;&nbsp\; Place:&nbsp\; Virtual session using Microsoft Teams Technology<br />\n&nbsp\;&nbsp\;&nbsp\;&nbsp\;&nbsp\;&nbsp\;&nbsp\;&nbsp\;&nbsp\;&nbsp\;&nbsp\;&nbsp\;&nbsp\;&nbsp\;&nbsp\; Registration:&nbsp\; click on the Eventbrite link below or call (801) 844-7900<br />\n&nbsp\;&nbsp\;&nbsp\;&nbsp\;&nbsp\;&nbsp\;&nbsp\;&nbsp\;&nbsp\;&nbsp\;&nbsp\;&nbsp\;&nbsp\;&nbsp\;&nbsp\;&nbsp\;&nbsp\;&nbsp\;&nbsp\;&nbsp\;&nbsp\;&nbsp\;&nbsp\;&nbsp\;&nbsp\;&nbsp\;&nbsp\;&nbsp\;&nbsp\;&nbsp\;&nbsp\; <a href="https://www.eventbrite.com/e/targeted-marketing-to-drive-extraordinary-results-for-your-business-tickets-638954178147">EventBrite</a>
LOCATION:
UID:e.2995.4889
SEQUENCE:3
DTSTAMP:20260419T173727Z
URL:https://business.eaglechamber.com/events/details/business-resource-center-zions-bank-4889
END:VEVENT

END:VCALENDAR
