BEGIN:VCALENDAR
VERSION:2.0
PRODID:-//ChamberMaster//Event Calendar 2.0//EN
METHOD:PUBLISH
X-PUBLISHED-TTL:P3D
REFRESH-INTERVAL:P3D
CALSCALE:GREGORIAN
BEGIN:VEVENT
DTSTART:20230114T170000Z
DTEND:20230114T230000Z
X-MICROSOFT-CDO-ALLDAYEVENT:FALSE
SUMMARY:Assistance League of Boise Thrift Shop 41st Anniversary Sale
DESCRIPTION:Assistance League  of Boise Thrift Shop is celebrating 41 years!! In honor of that\, everything in our store will be 41% off this Saturday\, January 14. All of your purchases help support thousands of children through our programs in Ada and Canyon counties every year!!
X-ALT-DESC;FMTTYPE=text/html:<span style="font-family:inherit\,serif"><span style="font-size:12.0pt">Assistance League&reg\; of Boise Thrift Shop is celebrating 41 years!! In honor of that\, everything in our store will be 41% off this Saturday\, January 14. All of your purchases help support thousands of children through our programs in Ada and Canyon counties every year!!</span></span>
LOCATION:5825 N. Glenwood Street Garden City\, ID
UID:e.2995.4826
SEQUENCE:3
DTSTAMP:20260419T163054Z
URL:https://business.eaglechamber.com/events/details/assistance-league-of-boise-thrift-shop-41st-anniversary-sale-4826
END:VEVENT

END:VCALENDAR
