BEGIN:VCALENDAR
VERSION:2.0
PRODID:-//ChamberMaster//Event Calendar 2.0//EN
METHOD:PUBLISH
X-PUBLISHED-TTL:P3D
REFRESH-INTERVAL:P3D
CALSCALE:GREGORIAN
BEGIN:VEVENT
DTSTART:20230506T160000Z
DTEND:20230506T220000Z
X-MICROSOFT-CDO-ALLDAYEVENT:FALSE
SUMMARY:Assistance League of Boise Annual Yard Sale
DESCRIPTION:It's that time of year again! The Assistance League of Boise Annual Yard Sale. May 5\, 9-4 and May 6 10-4. Lots of items\, including furniture\, lamps\, toys and more! Located in the parking lot of our thrift shop at 5825 N. Glenwood Street\, Garden City.
X-ALT-DESC;FMTTYPE=text/html:<div><span style="background-color:rgb(255\, 255\, 255)\; color:rgb(51\, 51\, 51)\; font-family:sans-serif\,arial\,verdana\,trebuchet ms\; font-size:13px">It&#39\;s that time of year again! The Assistance League of Boise Annual Yard Sale. May 5\, 9-4 and May 6 10-4. Lots of items\, including furniture\, lamps\, toys and more! Located in the parking lot of our thrift shop at 5825 N. Glenwood Street\, Garden City.</span><span style="background-color:rgb(121\, 146\, 114)">&nbsp\;</span></div>\n
LOCATION:5825 N. Glenwood Street Garden City\, ID
UID:e.2995.4876
SEQUENCE:3
DTSTAMP:20260419T163043Z
URL:https://business.eaglechamber.com/events/details/assistance-league-of-boise-annual-yard-sale-05-06-2023-4876
END:VEVENT

END:VCALENDAR
