BEGIN:VCALENDAR
VERSION:2.0
PRODID:-//ChamberMaster//Event Calendar 2.0//EN
METHOD:PUBLISH
X-PUBLISHED-TTL:P3D
REFRESH-INTERVAL:P3D
CALSCALE:GREGORIAN
BEGIN:VEVENT
DTSTART:20221104T233000Z
DTEND:20221105T003000Z
X-MICROSOFT-CDO-ALLDAYEVENT:FALSE
SUMMARY:Artist of the Month at Riverside Hotel
DESCRIPTION:Idaho Art Gallery artist Bill Garibyan is being honored as the artist of the month at the Riverside Hotel. Bill's artwork will be displays there for the whole month of November!\n\n\n\nWe hope you can make it out to see the artwork and honor this great local artist. Bill's artwork is breathtaking.
X-ALT-DESC;FMTTYPE=text/html:<a href="https://landscapepaintings.org/">Idaho Art Gallery </a>artist Bill Garibyan is being honored as the artist of the month at the Riverside Hotel. Bill&#39\;s artwork will be displays there for the whole month of November!<br />\n<br />\nWe hope you can make it out to see the artwork and honor this great local artist. Bill&#39\;s artwork is breathtaking.&nbsp\;
LOCATION:2900 W Chinden Blvd Garden City\, ID 83714
UID:e.2995.4537
SEQUENCE:3
DTSTAMP:20260419T203722Z
URL:https://business.eaglechamber.com/events/details/artist-of-the-month-at-riverside-hotel-4537
END:VEVENT

END:VCALENDAR
