BEGIN:VCALENDAR
VERSION:2.0
PRODID:-//ChamberMaster//Event Calendar 2.0//EN
METHOD:PUBLISH
X-PUBLISHED-TTL:P3D
REFRESH-INTERVAL:P3D
CALSCALE:GREGORIAN
BEGIN:VEVENT
DTSTART;VALUE=DATE:20230421
DTEND;VALUE=DATE:20230423
TRANSP:TRANSPARENT
X-MICROSOFT-CDO-ALLDAYEVENT:TRUE
SUMMARY:April 2023 Exhibition - Idaho Art Gallery
DESCRIPTION:Get ready for some fun at Idaho Art Gallery's April 2023 Exhibition. There will be top-notch appetizers\, wine and art provided.
X-ALT-DESC;FMTTYPE=text/html:Get ready for some fun at <a href="https://landscapepaintings.org/april-event/">Idaho Art Gallery&#39\;s</a> April 2023 Exhibition. There will be top-notch appetizers\, wine and art provided.&nbsp\;
LOCATION:211 E Pine Ave\, Suite 108 Meridian\, ID 83642
UID:e.2995.4867
SEQUENCE:3
DTSTAMP:20260419T162616Z
URL:https://business.eaglechamber.com/events/details/april-2023-exhibition-idaho-art-gallery-4867
END:VEVENT

END:VCALENDAR
