BEGIN:VCALENDAR
VERSION:2.0
PRODID:-//ChamberMaster//Event Calendar 2.0//EN
METHOD:PUBLISH
X-PUBLISHED-TTL:P3D
REFRESH-INTERVAL:P3D
CALSCALE:GREGORIAN
BEGIN:VEVENT
DTSTART:20230520T140000Z
DTEND:20230520T230000Z
X-MICROSOFT-CDO-ALLDAYEVENT:FALSE
SUMMARY:35th Annual Camille Beckman Scratch & Dent Sale
DESCRIPTION:Don't miss the Camille Beckman annual scratch and dent warehouse sale! Purchase luxurious body care products\; lotions\, soaps\, and creams\, that are slightly irregular or discontinued and more. Proceeds go to charity. The sale takes place at the back of the building in the warehouse. Make sure to check out our gift shop too. (Gift shop hours are Mon-Sat\, 10-5.)
X-ALT-DESC;FMTTYPE=text/html:Don&#39\;t miss the Camille Beckman annual scratch and dent warehouse sale! Purchase luxurious body care products\; lotions\, soaps\, and creams\, that are slightly irregular or discontinued and more. Proceeds go to charity. The sale takes place at the back of the building in the warehouse. Make sure to check out our gift shop too. (Gift shop hours are Mon-Sat\, 10-5.)
LOCATION:175 S Rosebud Lane Eagle\, Idaho
UID:e.2995.4865
SEQUENCE:3
DTSTAMP:20260419T162532Z
URL:https://business.eaglechamber.com/events/details/35th-annual-camille-beckman-scratch-dent-sale-4865
END:VEVENT

END:VCALENDAR
